BEGIN:VCALENDAR
VERSION:2.0
X-WR-CALNAME: Quilty
PRODID:GIGPRESS 2.0 WORDPRESS PLUGIN
CALSCALE:GREGORIAN
X-WR-TIMEZONE:Etc/GMT
METHOD:PUBLISH
BEGIN:VTIMEZONE
TZID:GMT
BEGIN:STANDARD
DTSTART:20071028T010000
TZOFFSETTO:+0000
TZOFFSETFROM:+0000
END:STANDARD
END:VTIMEZONE
BEGIN:VEVENT
SUMMARY:Quilty på Kulturhuset Aoseum
DESCRIPTION:Tour: QUILTY - turné. 
LOCATION:Kulturhuset Aoseum\, ÅHUS\, SE
UID:20260522T193000Z-432-lars@mtaprod.se
URL:https://dagwestling.se
DTSTART;VALUE=DATE-TIME;TZID=GMT:20260522T193000Z
DTEND;VALUE=DATE-TIME;TZID=GMT:20260522T193000Z
DTSTAMP:20260425T064619Z
END:VEVENT
BEGIN:VEVENT
SUMMARY:Quilty på Forum\, Black box
DESCRIPTION:Tour: QUILTY - turné. 
LOCATION:Forum\, Black box\, ÖRKELLJUNGA\, SE
UID:20260523T190000Z-433-lars@mtaprod.se
URL:https://dagwestling.se
DTSTART;VALUE=DATE-TIME;TZID=GMT:20260523T190000Z
DTEND;VALUE=DATE-TIME;TZID=GMT:20260523T190000Z
DTSTAMP:20260425T064619Z
END:VEVENT
END:VCALENDAR